BEGIN:VCALENDAR
VERSION:2.0
PRODID:Frederick County Calendar Creator
METHOD:PUBLISH
BEGIN:VEVENT
DTSTAMP:20190517T142832
DTSTART:20190520T130000
DTEND:20190520T150000
SUMMARY:Community Policy Management Team (CPMT): note date change due to holiday
DESCRIPTION:
X-ALT-DESC;FMTTYPE=text/html:
LOCATION:Purple Room\, 107 N. Kent St. Winchester\, Virginia 22601
CLASS:PUBLIC
END:VEVENT
END:VCALENDAR
